BEGIN:VCALENDAR
VERSION:2.0
PRODID:-//Library Market//iCal Export//EN
BEGIN:VEVENT
SUMMARY:Info Table: El Valor
UID:2031
DTSTAMP:20260424T231800Z
DTSTART:20260423T213000Z
DTEND:20260423T223000Z
LOCATION:Cicero Public Library, 5225 W. Cermak Rd., Cicero, IL 60804, Unit
 ed States
ROOM: Information Table
DESCRIPTION:Community Outreach
URL:https://ciceropl.librarycalendar.com/event/info-table-el-valor-2031
END:VEVENT
END:VCALENDAR
