BEGIN:VCALENDAR
VERSION:2.0
PRODID:-//Library Market//iCal Export//EN
BEGIN:VEVENT
SUMMARY:Info Table: El Valor
UID:2033
DTSTAMP:20260421T120300Z
DTSTART:20260430T213000Z
DTEND:20260430T233000Z
LOCATION:Cicero Public Library, 5225 W. Cermak Rd., Cicero, IL 60804, Unit
 ed States
ROOM: Information Table
DESCRIPTION:Community outreach
URL:https://ciceropl.librarycalendar.com/event/info-table-el-valor-2033
END:VEVENT
END:VCALENDAR
